BEGIN:VCALENDAR
VERSION:2.0
PRODID:-//Dot.Asia - ECPv6.13.2.1//NONSGML v1.0//EN
CALSCALE:GREGORIAN
METHOD:PUBLISH
X-WR-CALNAME:Dot.Asia
X-ORIGINAL-URL:https://staging.dot.asia
X-WR-CALDESC:Events for Dot.Asia
REFRESH-INTERVAL;VALUE=DURATION:PT1H
X-Robots-Tag:noindex
X-PUBLISHED-TTL:PT1H
BEGIN:VTIMEZONE
TZID:UTC
BEGIN:STANDARD
TZOFFSETFROM:+0000
TZOFFSETTO:+0000
TZNAME:UTC
DTSTART:20260101T000000
END:STANDARD
END:VTIMEZONE
BEGIN:VEVENT
DTSTART;VALUE=DATE:20260422
DTEND;VALUE=DATE:20260425
DTSTAMP:20260424T213652
CREATED:20251211T092504Z
LAST-MODIFIED:20260424T131659Z
UID:11790-1776816000-1777075199@staging.dot.asia
SUMMARY:IP Open Policy Meeting (OPM) @ TWNIC Forum
DESCRIPTION:The IP OPM is a forum within the larger TWNIC Forum event. It provides a platform for discussing and developing policies related to internet number resources\, technical protocols\, and cybersecurity\, with a specific focus on the Taiwanese internet environment.
URL:https://staging.dot.asia/da-event/ip-open-policy-meeting-opm-twnic-forum/
LOCATION:Taipei
END:VEVENT
END:VCALENDAR