BEGIN:VCALENDAR
VERSION:2.0
PRODID:-//Dot.Asia - ECPv6.13.2.1//NONSGML v1.0//EN
CALSCALE:GREGORIAN
METHOD:PUBLISH
X-WR-CALNAME:Dot.Asia
X-ORIGINAL-URL:https://staging.dot.asia
X-WR-CALDESC:Events for Dot.Asia
REFRESH-INTERVAL;VALUE=DURATION:PT1H
X-Robots-Tag:noindex
X-PUBLISHED-TTL:PT1H
BEGIN:VTIMEZONE
TZID:UTC
BEGIN:STANDARD
TZOFFSETFROM:+0000
TZOFFSETTO:+0000
TZNAME:UTC
DTSTART:20250101T000000
END:STANDARD
END:VTIMEZONE
BEGIN:VEVENT
DTSTART;VALUE=DATE:20251015
DTEND;VALUE=DATE:20251116
DTSTAMP:20260425T210306
CREATED:20251211T092502Z
LAST-MODIFIED:20260425T125352Z
UID:11767-1760486400-1763251199@staging.dot.asia
SUMMARY:Foreign Policy Community of Indonesia (FPCI)
DESCRIPTION:Foreign Policy Community of Indonesia (FPCI) annual conference
URL:https://staging.dot.asia/da-event/foreign-policy-community-of-indonesia-fpci/
LOCATION:Jakarta
END:VEVENT
BEGIN:VEVENT
DTSTART;VALUE=DATE:20251030
DTEND;VALUE=DATE:20251102
DTSTAMP:20260425T210306
CREATED:20250916T224913Z
LAST-MODIFIED:20260425T125352Z
UID:11599-1761782400-1762041599@staging.dot.asia
SUMMARY:DotAsia Board Meeting
DESCRIPTION:DotAsia Board Meeting
URL:https://staging.dot.asia/da-event/dotasia-board-meeting/
LOCATION:Dublin
END:VEVENT
BEGIN:VEVENT
DTSTART;VALUE=DATE:20251101
DTEND;VALUE=DATE:20251118
DTSTAMP:20260425T210306
CREATED:20251211T092503Z
LAST-MODIFIED:20260425T125354Z
UID:11770-1761955200-1763423999@staging.dot.asia
SUMMARY:WSIS+20 Related Input/Consultations
DESCRIPTION:WSIS+20 Related Input/Consultations
URL:https://staging.dot.asia/da-event/wsis20-related-input-consultations-3/
LOCATION:Global
END:VEVENT
BEGIN:VEVENT
DTSTART;TZID=UTC:20251115T090000
DTEND;TZID=UTC:20251115T090000
DTSTAMP:20260425T210306
CREATED:20250730T154834Z
LAST-MODIFIED:20260425T125353Z
UID:11528-1763197200-1763197200@staging.dot.asia
SUMMARY:Digital Citizen Summit (DCS)
DESCRIPTION:Digital Empowerment Foundation (DEF) India
URL:https://staging.dot.asia/da-event/digital-citizen-summit-dcs/
LOCATION:Hyderabad
END:VEVENT
BEGIN:VEVENT
DTSTART;TZID=UTC:20251117T030000
DTEND;TZID=UTC:20251117T040000
DTSTAMP:20260425T210306
CREATED:20251211T092503Z
LAST-MODIFIED:20260425T125354Z
UID:11769-1763348400-1763352000@staging.dot.asia
SUMMARY:APrIGF WSIS+20 Webinar: Asia Pacific Views on WSIS+20 Revision 1
DESCRIPTION:The 3rd Webinar series organised by APrIGF WSIS+20 Working Group. This Webinar focuses on APAC inputs on Revision 1
URL:https://staging.dot.asia/da-event/aprigf-wsis20-webinar-asia-pacific-views-on-wsis20-revision-1/
LOCATION:Virtual
END:VEVENT
BEGIN:VEVENT
DTSTART;TZID=UTC:20251117T090000
DTEND;TZID=UTC:20251118T090000
DTSTAMP:20260425T210306
CREATED:20250916T224913Z
LAST-MODIFIED:20260425T125353Z
UID:11600-1763370000-1763456400@staging.dot.asia
SUMMARY:Domain Summit Asia
DESCRIPTION:Domain Summit Asia
URL:https://staging.dot.asia/da-event/domain-summit-asia/
LOCATION:Hong Kong
END:VEVENT
BEGIN:VEVENT
DTSTART;TZID=UTC:20251117T090000
DTEND;TZID=UTC:20251118T090000
DTSTAMP:20260425T210306
CREATED:20251211T092503Z
LAST-MODIFIED:20260425T125353Z
UID:11768-1763370000-1763456400@staging.dot.asia
SUMMARY:GoCreate! Domain Innovations
DESCRIPTION:GoCreate! Domain Innovations
URL:https://staging.dot.asia/da-event/gocreate-domain-innovations-3/
LOCATION:Hong Kong
END:VEVENT
END:VCALENDAR