BEGIN:VCALENDAR
VERSION:2.0
PRODID:-//Dot.Asia - ECPv6.13.2.1//NONSGML v1.0//EN
CALSCALE:GREGORIAN
METHOD:PUBLISH
X-ORIGINAL-URL:https://staging.dot.asia
X-WR-CALDESC:Events for Dot.Asia
REFRESH-INTERVAL;VALUE=DURATION:PT1H
X-Robots-Tag:noindex
X-PUBLISHED-TTL:PT1H
BEGIN:VTIMEZONE
TZID:UTC
BEGIN:STANDARD
TZOFFSETFROM:+0000
TZOFFSETTO:+0000
TZNAME:UTC
DTSTART:20250101T000000
END:STANDARD
END:VTIMEZONE
BEGIN:VEVENT
DTSTART;VALUE=DATE:20250908
DTEND;VALUE=DATE:20250909
DTSTAMP:20260426T031126
CREATED:20250916T224913Z
LAST-MODIFIED:20260425T185129Z
UID:11593-1757289600-1757375999@staging.dot.asia
SUMMARY:AP Star (AP*) Retreat
DESCRIPTION:AP Star (AP*) Retreat
URL:https://staging.dot.asia/da-event/ap-star-ap-retreat/
LOCATION:Danang
END:VEVENT
BEGIN:VEVENT
DTSTART;TZID=UTC:20250917T050000
DTEND;TZID=UTC:20250917T063000
DTSTAMP:20260426T031126
CREATED:20251211T092502Z
LAST-MODIFIED:20260425T185129Z
UID:11762-1758085200-1758090600@staging.dot.asia
SUMMARY:APrIGF WSIS+20 Webinar: Reflection on WSIS+20 Zero Draft
DESCRIPTION:The 2nd Webinar series organised by APrIGF WSIS+20 Working Group. This Webinar focuses on APAC inputs on the Zero Draft
URL:https://staging.dot.asia/da-event/aprigf-wsis20-webinar-reflection-on-wsis20-zero-draft/
LOCATION:Virtual
END:VEVENT
BEGIN:VEVENT
DTSTART;VALUE=DATE:20250929
DTEND;VALUE=DATE:20251004
DTSTAMP:20260426T031126
CREATED:20250916T224913Z
LAST-MODIFIED:20260425T185130Z
UID:11595-1759104000-1759535999@staging.dot.asia
SUMMARY:Asia-Pacific Climate Change Adaptation Forum (APAN)
DESCRIPTION:Asia-Pacific Climate Change Adaptation Forum (APAN)
URL:https://staging.dot.asia/da-event/asia-pacific-climate-change-adaptation-forum-apan/
LOCATION:Bangkok
END:VEVENT
END:VCALENDAR