BEGIN:VCALENDAR
VERSION:2.0
PRODID:-//Dot.Asia - ECPv6.13.2.1//NONSGML v1.0//EN
CALSCALE:GREGORIAN
METHOD:PUBLISH
X-WR-CALNAME:Dot.Asia
X-ORIGINAL-URL:https://staging.dot.asia
X-WR-CALDESC:Events for Dot.Asia
REFRESH-INTERVAL;VALUE=DURATION:PT1H
X-Robots-Tag:noindex
X-PUBLISHED-TTL:PT1H
BEGIN:VTIMEZONE
TZID:UTC
BEGIN:STANDARD
TZOFFSETFROM:+0000
TZOFFSETTO:+0000
TZNAME:UTC
DTSTART:20250101T000000
END:STANDARD
END:VTIMEZONE
BEGIN:VEVENT
DTSTART;VALUE=DATE:20251205
DTEND;VALUE=DATE:20251208
DTSTAMP:20260425T193847
CREATED:20251211T092503Z
LAST-MODIFIED:20260425T111511Z
UID:11773-1764892800-1765151999@staging.dot.asia
SUMMARY:Cambodia Digital Government Forum 2025
DESCRIPTION:The three-day Cambodia Digital Government Forum 2025\, taking place from 5 to 7 December will hold three events in parallel: CamIGF\, CamyIGF\, and CamAPIGA.
URL:https://staging.dot.asia/da-event/cambodia-digital-government-forum-2025/
LOCATION:Phnom Penh
END:VEVENT
BEGIN:VEVENT
DTSTART;VALUE=DATE:20251206
DTEND;VALUE=DATE:20251207
DTSTAMP:20260425T193847
CREATED:20251211T092503Z
LAST-MODIFIED:20260425T111511Z
UID:11776-1764979200-1765065599@staging.dot.asia
SUMMARY:Cambodia Youth Internet Governance Forum (Cambodia yIGF 2025)
DESCRIPTION:The three-day Cambodia Digital Government Forum 2025\, taking place from 5 to 7 December will hold three events in parallel: CamIGF\, CamyIGF\, and CamAPIGA.
URL:https://staging.dot.asia/da-event/cambodia-youth-internet-governance-forum-cambodia-yigf-2025/
LOCATION:Phnom Penh
END:VEVENT
BEGIN:VEVENT
DTSTART;VALUE=DATE:20251206
DTEND;VALUE=DATE:20251208
DTSTAMP:20260425T193847
CREATED:20251211T092503Z
LAST-MODIFIED:20260425T111512Z
UID:11777-1764979200-1765151999@staging.dot.asia
SUMMARY:Asia Pacific Internet Governance Academy (APIGA) Cambodia
DESCRIPTION:The three-day Cambodia Digital Government Forum 2025\, taking place from 5 to 7 December will hold three events in parallel: CamIGF\, CamyIGF\, and CamAPIGA.
URL:https://staging.dot.asia/da-event/asia-pacific-internet-governance-academy-apiga-cambodia/
LOCATION:Phnom Penh
END:VEVENT
BEGIN:VEVENT
DTSTART;VALUE=DATE:20251206
DTEND;VALUE=DATE:20251208
DTSTAMP:20260425T193847
CREATED:20251211T092503Z
LAST-MODIFIED:20260425T111511Z
UID:11775-1764979200-1765151999@staging.dot.asia
SUMMARY:First Cambodia Internet Governance Forum (CamIGF)
DESCRIPTION:The three-day Cambodia Digital Government Forum 2025\, taking place from 5 to 7 December will hold three events in parallel: CamIGF\, CamyIGF\, and CamAPIGA.
URL:https://staging.dot.asia/da-event/first-cambodia-internet-governance-forum-camigf/
LOCATION:Phnom Penh
END:VEVENT
BEGIN:VEVENT
DTSTART;VALUE=DATE:20251208
DTEND;VALUE=DATE:20251209
DTSTAMP:20260425T193847
CREATED:20251211T092503Z
LAST-MODIFIED:20260425T111512Z
UID:11778-1765152000-1765238399@staging.dot.asia
SUMMARY:WSIS+20 Related Input/Consultations
DESCRIPTION:WSIS+20 Related Input/Consultations
URL:https://staging.dot.asia/da-event/wsis20-related-input-consultations-4/
LOCATION:Global
END:VEVENT
BEGIN:VEVENT
DTSTART;VALUE=DATE:20251209
DTEND;VALUE=DATE:20251218
DTSTAMP:20260425T193847
CREATED:20251211T092504Z
LAST-MODIFIED:20260425T111512Z
UID:11779-1765238400-1766015999@staging.dot.asia
SUMMARY:North America Digital Communications and Media Forum\, Washington D.C.
DESCRIPTION:North America Digital Communications and Media Forum\, Washington D.C.
URL:https://staging.dot.asia/da-event/north-america-digital-communications-and-media-forum-washington-d-c/
LOCATION:Washington\, DC
END:VEVENT
BEGIN:VEVENT
DTSTART;VALUE=DATE:20251216
DTEND;VALUE=DATE:20251218
DTSTAMP:20260425T193847
CREATED:20251211T092504Z
LAST-MODIFIED:20260425T111513Z
UID:11781-1765843200-1766015999@staging.dot.asia
SUMMARY:WSIS+20 High-Level Meeting of the General Assembly
DESCRIPTION:WSIS+20 Related Input/Consultations
URL:https://staging.dot.asia/da-event/wsis20-high-level-meeting-of-the-general-assembly/
LOCATION:New York City
END:VEVENT
BEGIN:VEVENT
DTSTART;VALUE=DATE:20251219
DTEND;VALUE=DATE:20251220
DTSTAMP:20260425T193847
CREATED:20260106T164845Z
LAST-MODIFIED:20260425T111513Z
UID:11848-1766102400-1766188799@staging.dot.asia
SUMMARY:Internet Governance Forum Support Association (IGFSA)
DESCRIPTION:Internet Governance Forum Support Association (IGFSA)
URL:https://staging.dot.asia/da-event/internet-governance-forum-support-association-igfsa/
LOCATION:Virtual
END:VEVENT
BEGIN:VEVENT
DTSTART;VALUE=DATE:20260128
DTEND;VALUE=DATE:20260129
DTSTAMP:20260425T193847
CREATED:20260119T024848Z
LAST-MODIFIED:20260425T111513Z
UID:11908-1769558400-1769644799@staging.dot.asia
SUMMARY:APrIGF WSIS+20 Webinar: Beyond the WSIS+20 Review: Charting the Path Forward for the Asia-Pacific Region in Digital Development
DESCRIPTION:The webinar discusses a retrospective discussion on key negotiation points and dynamics during the WSIS+20 Review High Level Meeting in New York + What’s next
URL:https://staging.dot.asia/da-event/aprigf-wsis20-webinar-beyond-the-wsis20-review-charting-the-path-forward-for-the-asia-pacific-region-in-digital-development/
LOCATION:Virtual
END:VEVENT
BEGIN:VEVENT
DTSTART;VALUE=DATE:20260204
DTEND;VALUE=DATE:20260213
DTSTAMP:20260425T193847
CREATED:20260119T024848Z
LAST-MODIFIED:20260425T111514Z
UID:11909-1770163200-1770940799@staging.dot.asia
SUMMARY:Asia Pacific Regional Internet Conference on Operational Technologies (APRICOT)
DESCRIPTION:Annual Asia Pacific Regional Internet Conference on Operational Technologies (APRICOT)
URL:https://staging.dot.asia/da-event/asia-pacific-regional-internet-conference-on-operational-technologies-apricot/
LOCATION:Jakarta
END:VEVENT
BEGIN:VEVENT
DTSTART;VALUE=DATE:20260208
DTEND;VALUE=DATE:20260209
DTSTAMP:20260425T193847
CREATED:20260123T184857Z
LAST-MODIFIED:20260425T111514Z
UID:11915-1770508800-1770595199@staging.dot.asia
SUMMARY:DotAsia Annual General Meeting (AGM)
DESCRIPTION:DotAsia Annual General Meeting (AGM)
URL:https://staging.dot.asia/da-event/dotasia-annual-general-meeting-agm/
LOCATION:Jakarta
END:VEVENT
BEGIN:VEVENT
DTSTART;VALUE=DATE:20260208
DTEND;VALUE=DATE:20260211
DTSTAMP:20260425T193847
CREATED:20260108T194917Z
LAST-MODIFIED:20260425T111514Z
UID:11854-1770508800-1770767999@staging.dot.asia
SUMMARY:Global CyberPeace Summit 2.0
DESCRIPTION:Global CyberPeace Summit 2.0
URL:https://staging.dot.asia/da-event/global-cyberpeace-summit-2-0/
LOCATION:New Delhi
END:VEVENT
BEGIN:VEVENT
DTSTART;VALUE=DATE:20260422
DTEND;VALUE=DATE:20260425
DTSTAMP:20260425T193847
CREATED:20251211T092504Z
LAST-MODIFIED:20260425T111516Z
UID:11790-1776816000-1777075199@staging.dot.asia
SUMMARY:IP Open Policy Meeting (OPM) @ TWNIC Forum
DESCRIPTION:The IP OPM is a forum within the larger TWNIC Forum event. It provides a platform for discussing and developing policies related to internet number resources\, technical protocols\, and cybersecurity\, with a specific focus on the Taiwanese internet environment.
URL:https://staging.dot.asia/da-event/ip-open-policy-meeting-opm-twnic-forum/
LOCATION:Taipei
END:VEVENT
BEGIN:VEVENT
DTSTART;VALUE=DATE:20260512
DTEND;VALUE=DATE:20260516
DTSTAMP:20260425T193847
CREATED:20251211T092505Z
LAST-MODIFIED:20260425T111517Z
UID:11795-1778544000-1778889599@staging.dot.asia
SUMMARY:7th Taiwan Network Operator's Group (TWNOG) meeting (TWNOG 7)
DESCRIPTION:This is a recurring event for network engineers and operators in Taiwan.
URL:https://staging.dot.asia/da-event/7th-taiwan-network-operators-group-twnog-meeting-twnog-7/
LOCATION:Taipei
END:VEVENT
BEGIN:VEVENT
DTSTART;VALUE=DATE:20260610
DTEND;VALUE=DATE:20260614
DTSTAMP:20260425T193847
CREATED:20251211T094124Z
LAST-MODIFIED:20260425T111517Z
UID:11802-1781049600-1781395199@staging.dot.asia
SUMMARY:ICANN86 Policy Forum
DESCRIPTION:ICANN86 Policy Forum
URL:https://staging.dot.asia/da-event/icann86-policy-forum/
LOCATION:Seville
END:VEVENT
BEGIN:VEVENT
DTSTART;VALUE=DATE:20260904
DTEND;VALUE=DATE:20260905
DTSTAMP:20260425T193847
CREATED:20260123T184857Z
LAST-MODIFIED:20260425T111518Z
UID:11916-1788480000-1788566399@staging.dot.asia
SUMMARY:Hawaiʻi School on Internet Governance (HI-SIG)
DESCRIPTION:Inaugural Hawaiʻi School on Internet Governance (HI-SIG) Program: Online Trust
URL:https://staging.dot.asia/da-event/hawai%ca%bbi-school-on-internet-governance-hi-sig/
LOCATION:Hawai’i
END:VEVENT
BEGIN:VEVENT
DTSTART;VALUE=DATE:20261020
DTEND;VALUE=DATE:20261031
DTSTAMP:20260425T193847
CREATED:20251211T094124Z
LAST-MODIFIED:20260425T111519Z
UID:11805-1792454400-1793404799@staging.dot.asia
SUMMARY:DotAsia 20th Anniversary Celebration @ICANN87
DESCRIPTION:DotAsia 20th Anniversary Celebration @ICANN87
URL:https://staging.dot.asia/da-event/dotasia-20th-anniversary-celebration-icann87/
LOCATION:Muscat
END:VEVENT
BEGIN:VEVENT
DTSTART;VALUE=DATE:20261020
DTEND;VALUE=DATE:20261031
DTSTAMP:20260425T193847
CREATED:20251211T094124Z
LAST-MODIFIED:20260425T111519Z
UID:11804-1792454400-1793404799@staging.dot.asia
SUMMARY:ICANN87 Annual General Meeting
DESCRIPTION:ICANN87 Annual General Meeting
URL:https://staging.dot.asia/da-event/icann87-annual-general-meeting/
LOCATION:Muscat
END:VEVENT
BEGIN:VEVENT
DTSTART;TZID=UTC:20261117T090000
DTEND;TZID=UTC:20261118T090000
DTSTAMP:20260425T193847
CREATED:20251211T094124Z
LAST-MODIFIED:20260425T111520Z
UID:11807-1794906000-1794992400@staging.dot.asia
SUMMARY:Domain Summit Asia (TBD)
DESCRIPTION:Domain Summit Asia
URL:https://staging.dot.asia/da-event/domain-summit-asia-tbd/
LOCATION:Bangkok
END:VEVENT
END:VCALENDAR