BEGIN:VCALENDAR
VERSION:2.0
PRODID:-//Dot.Asia - ECPv6.13.2.1//NONSGML v1.0//EN
CALSCALE:GREGORIAN
METHOD:PUBLISH
X-ORIGINAL-URL:https://staging.dot.asia
X-WR-CALDESC:Events for Dot.Asia
REFRESH-INTERVAL;VALUE=DURATION:PT1H
X-Robots-Tag:noindex
X-PUBLISHED-TTL:PT1H
BEGIN:VTIMEZONE
TZID:UTC
BEGIN:STANDARD
TZOFFSETFROM:+0000
TZOFFSETTO:+0000
TZNAME:UTC
DTSTART:20260101T000000
END:STANDARD
END:VTIMEZONE
BEGIN:VEVENT
DTSTART;VALUE=DATE:20260204
DTEND;VALUE=DATE:20260213
DTSTAMP:20260426T003100
CREATED:20260119T024848Z
LAST-MODIFIED:20260425T155108Z
UID:11909-1770163200-1770940799@staging.dot.asia
SUMMARY:Asia Pacific Regional Internet Conference on Operational Technologies (APRICOT)
DESCRIPTION:Annual Asia Pacific Regional Internet Conference on Operational Technologies (APRICOT)
URL:https://staging.dot.asia/da-event/asia-pacific-regional-internet-conference-on-operational-technologies-apricot/
LOCATION:Jakarta
END:VEVENT
END:VCALENDAR