BEGIN:VCALENDAR
VERSION:2.0
PRODID:-//Dot.Asia - ECPv6.13.2.1//NONSGML v1.0//EN
CALSCALE:GREGORIAN
METHOD:PUBLISH
X-ORIGINAL-URL:https://staging.dot.asia
X-WR-CALDESC:Events for Dot.Asia
REFRESH-INTERVAL;VALUE=DURATION:PT1H
X-Robots-Tag:noindex
X-PUBLISHED-TTL:PT1H
BEGIN:VTIMEZONE
TZID:UTC
BEGIN:STANDARD
TZOFFSETFROM:+0000
TZOFFSETTO:+0000
TZNAME:UTC
DTSTART:20250101T000000
END:STANDARD
END:VTIMEZONE
BEGIN:VEVENT
DTSTART;VALUE=DATE:20251015
DTEND;VALUE=DATE:20251116
DTSTAMP:20260425T235722
CREATED:20251211T092502Z
LAST-MODIFIED:20260425T155102Z
UID:11767-1760486400-1763251199@staging.dot.asia
SUMMARY:Foreign Policy Community of Indonesia (FPCI)
DESCRIPTION:Foreign Policy Community of Indonesia (FPCI) annual conference
URL:https://staging.dot.asia/da-event/foreign-policy-community-of-indonesia-fpci/
LOCATION:Jakarta
END:VEVENT
BEGIN:VEVENT
DTSTART;VALUE=DATE:20251101
DTEND;VALUE=DATE:20251118
DTSTAMP:20260425T235722
CREATED:20251211T092503Z
LAST-MODIFIED:20260425T155104Z
UID:11770-1761955200-1763423999@staging.dot.asia
SUMMARY:WSIS+20 Related Input/Consultations
DESCRIPTION:WSIS+20 Related Input/Consultations
URL:https://staging.dot.asia/da-event/wsis20-related-input-consultations-3/
LOCATION:Global
END:VEVENT
END:VCALENDAR