BEGIN:VCALENDAR
VERSION:2.0
PRODID:-//Dot.Asia - ECPv6.13.2.1//NONSGML v1.0//EN
CALSCALE:GREGORIAN
METHOD:PUBLISH
X-ORIGINAL-URL:https://staging.dot.asia
X-WR-CALDESC:Events for Dot.Asia
REFRESH-INTERVAL;VALUE=DURATION:PT1H
X-Robots-Tag:noindex
X-PUBLISHED-TTL:PT1H
BEGIN:VTIMEZONE
TZID:UTC
BEGIN:STANDARD
TZOFFSETFROM:+0000
TZOFFSETTO:+0000
TZNAME:UTC
DTSTART:20250101T000000
END:STANDARD
END:VTIMEZONE
BEGIN:VEVENT
DTSTART;VALUE=DATE:20251015
DTEND;VALUE=DATE:20251116
DTSTAMP:20260425T211157
CREATED:20251211T092502Z
LAST-MODIFIED:20260425T125352Z
UID:11767-1760486400-1763251199@staging.dot.asia
SUMMARY:Foreign Policy Community of Indonesia (FPCI)
DESCRIPTION:Foreign Policy Community of Indonesia (FPCI) annual conference
URL:https://staging.dot.asia/da-event/foreign-policy-community-of-indonesia-fpci/
LOCATION:Jakarta
END:VEVENT
BEGIN:VEVENT
DTSTART;TZID=UTC:20251025T090000
DTEND;TZID=UTC:20251030T000000
DTSTAMP:20260425T211157
CREATED:20250616T194834Z
LAST-MODIFIED:20260425T125351Z
UID:11480-1761382800-1761782400@staging.dot.asia
SUMMARY:ICANN84 Annual General Meeting
DESCRIPTION:ICANN Annual General Meeting
URL:https://staging.dot.asia/da-event/icann84-annual-general-meeting/
LOCATION:Dublin
END:VEVENT
BEGIN:VEVENT
DTSTART;TZID=UTC:20251027T090000
DTEND;TZID=UTC:20251027T090000
DTSTAMP:20260425T211157
CREATED:20251211T092502Z
LAST-MODIFIED:20260425T125351Z
UID:11766-1761555600-1761555600@staging.dot.asia
SUMMARY:Coalition on Digital Impact (CODI) Meeting
DESCRIPTION:Coalition on Digital Impact (CODI) meeting during ICANN84
URL:https://staging.dot.asia/da-event/coalition-on-digital-impact-codi-meeting/
LOCATION:Dublin
END:VEVENT
END:VCALENDAR