BEGIN:VCALENDAR
VERSION:2.0
PRODID:-//Dot.Asia - ECPv6.13.2.1//NONSGML v1.0//EN
CALSCALE:GREGORIAN
METHOD:PUBLISH
X-WR-CALNAME:Dot.Asia
X-ORIGINAL-URL:https://staging.dot.asia
X-WR-CALDESC:Events for Dot.Asia
REFRESH-INTERVAL;VALUE=DURATION:PT1H
X-Robots-Tag:noindex
X-PUBLISHED-TTL:PT1H
BEGIN:VTIMEZONE
TZID:UTC
BEGIN:STANDARD
TZOFFSETFROM:+0000
TZOFFSETTO:+0000
TZNAME:UTC
DTSTART:20250101T000000
END:STANDARD
END:VTIMEZONE
BEGIN:VEVENT
DTSTART;VALUE=DATE:20251003
DTEND;VALUE=DATE:20251026
DTSTAMP:20260425T233222
CREATED:20251211T092502Z
LAST-MODIFIED:20260425T145201Z
UID:11763-1759449600-1761436799@staging.dot.asia
SUMMARY:WSIS+20 Related Input/Consultations
DESCRIPTION:WSIS+20 Related Input/Consultations
URL:https://staging.dot.asia/da-event/wsis20-related-input-consultations-2/
LOCATION:Global
END:VEVENT
BEGIN:VEVENT
DTSTART;VALUE=DATE:20251011
DTEND;VALUE=DATE:20251015
DTSTAMP:20260425T233222
CREATED:20250521T123302Z
LAST-MODIFIED:20260425T145202Z
UID:11427-1760140800-1760486399@staging.dot.asia
SUMMARY:APrIGF 2025
DESCRIPTION:Asia Pacific Regional Internet Governance Forum
URL:https://staging.dot.asia/da-event/aprigf-2025/
LOCATION:Virtual (Kathmandu)
END:VEVENT
END:VCALENDAR